BEGIN:VCALENDAR
VERSION:2.0
PRODID:-//eventon.com NONSGML v1.0//EN
CALSCALE:GREGORIAN
METHOD:PUBLISH
BEGIN:VEVENT
UID:69ec05bae01d0
DTSTAMP:20260425T000722Z
DTSTART:20261103T173000Z
DTEND:20261103T183000Z
LOCATION:
SUMMARY:Vinyasa Flow
DESCRIPTION:Vinyasa Flow\nhttps://padmayoga.ch/events/vinyasa-flow-di-2/var
 /ri-28.l-L1
URL:https://padmayoga.ch/events/vinyasa-flow-di-2/var/ri-28.l-L1
END:VEVENT
END:VCALENDAR