BEGIN:VCALENDAR
VERSION:2.0
PRODID:-//eventon.com NONSGML v1.0//EN
CALSCALE:GREGORIAN
METHOD:PUBLISH
BEGIN:VEVENT
UID:69ebd9f4f0666
DTSTAMP:20260424T210036Z
DTSTART:20261020T163000Z
DTEND:20261020T173000Z
LOCATION:
SUMMARY:Vinyasa Flow
DESCRIPTION:Vinyasa Flow\nhttps://padmayoga.ch/events/vinyasa-flow-di-2/var
 /ri-26.l-L1
URL:https://padmayoga.ch/events/vinyasa-flow-di-2/var/ri-26.l-L1
END:VEVENT
END:VCALENDAR