BEGIN:VCALENDAR
VERSION:2.0
PRODID:-//eventon.com NONSGML v1.0//EN
CALSCALE:GREGORIAN
METHOD:PUBLISH
BEGIN:VEVENT
UID:69eb83f43fa9d
DTSTAMP:20260424T145340Z
DTSTART:20260922T163000Z
DTEND:20260922T173000Z
LOCATION:
SUMMARY:Vinyasa Flow
DESCRIPTION:Vinyasa Flow\nhttps://padmayoga.ch/events/vinyasa-flow-di-2/var
 /ri-22.l-L1
URL:https://padmayoga.ch/events/vinyasa-flow-di-2/var/ri-22.l-L1
END:VEVENT
END:VCALENDAR