BEGIN:VCALENDAR
VERSION:2.0
PRODID:-//eventon.com NONSGML v1.0//EN
CALSCALE:GREGORIAN
METHOD:PUBLISH
BEGIN:VEVENT
UID:69eb40ae59ed8
DTSTAMP:20260424T100638Z
DTSTART:20260901T163000Z
DTEND:20260901T173000Z
LOCATION:
SUMMARY:Vinyasa Flow
DESCRIPTION:Vinyasa Flow\nhttps://padmayoga.ch/events/vinyasa-flow-di-2/var
 /ri-19.l-L1
URL:https://padmayoga.ch/events/vinyasa-flow-di-2/var/ri-19.l-L1
END:VEVENT
END:VCALENDAR