BEGIN:VCALENDAR
VERSION:2.0
PRODID:-//eventon.com NONSGML v1.0//EN
CALSCALE:GREGORIAN
METHOD:PUBLISH
BEGIN:VEVENT
UID:69eb573bca276
DTSTAMP:20260424T114251Z
DTSTART:20260811T163000Z
DTEND:20260811T173000Z
LOCATION:
SUMMARY:Vinyasa Flow
DESCRIPTION:Vinyasa Flow\nhttps://padmayoga.ch/events/vinyasa-flow-di-2/var
 /ri-16.l-L1
URL:https://padmayoga.ch/events/vinyasa-flow-di-2/var/ri-16.l-L1
END:VEVENT
END:VCALENDAR