BEGIN:VCALENDAR
VERSION:2.0
PRODID:-//eventon.com NONSGML v1.0//EN
CALSCALE:GREGORIAN
METHOD:PUBLISH
BEGIN:VEVENT
UID:69eb29b32c36d
DTSTAMP:20260424T082835Z
DTSTART:20260804T163000Z
DTEND:20260804T173000Z
LOCATION:
SUMMARY:Vinyasa Flow
DESCRIPTION:Vinyasa Flow\nhttps://padmayoga.ch/events/vinyasa-flow-di-2/var
 /ri-15.l-L1
URL:https://padmayoga.ch/events/vinyasa-flow-di-2/var/ri-15.l-L1
END:VEVENT
END:VCALENDAR