BEGIN:VCALENDAR
VERSION:2.0
PRODID:-//eventon.com NONSGML v1.0//EN
CALSCALE:GREGORIAN
METHOD:PUBLISH
BEGIN:VEVENT
UID:69eb3d6e4f09c
DTSTAMP:20260424T095246Z
DTSTART:20260421T163000Z
DTEND:20260421T173000Z
LOCATION:
SUMMARY:Vinyasa Flow
DESCRIPTION:Vinyasa Flow\nhttps://padmayoga.ch/events/vinyasa-flow-di-2/
URL:https://padmayoga.ch/events/vinyasa-flow-di-2/
END:VEVENT
END:VCALENDAR