BEGIN:VCALENDAR
VERSION:2.0
PRODID:-//eventon.com NONSGML v1.0//EN
CALSCALE:GREGORIAN
METHOD:PUBLISH
BEGIN:VEVENT
UID:69e8a2261a20b
DTSTAMP:20260422T102542Z
DTSTART:20260318T190000Z
DTEND:20260318T201500Z
LOCATION:
SUMMARY:Vinyasa Flow
DESCRIPTION:Vinyasa Flow\nhttps://padmayoga.ch/events/vinyasa-flow-di/
URL:https://padmayoga.ch/events/vinyasa-flow-di/
END:VEVENT
END:VCALENDAR