BEGIN:VCALENDAR
VERSION:2.0
PRODID:-//eventon.com NONSGML v1.0//EN
CALSCALE:GREGORIAN
METHOD:PUBLISH
BEGIN:VEVENT
UID:69eb57452b621
DTSTAMP:20260424T114301Z
DTSTART:20260610T163000Z
DTEND:20260610T173000Z
LOCATION:
SUMMARY:Pilates
DESCRIPTION:Pilates\nhttps://padmayoga.ch/events/pilates/var/ri-8.l-L1
URL:https://padmayoga.ch/events/pilates/var/ri-8.l-L1
END:VEVENT
END:VCALENDAR