BEGIN:VCALENDAR
VERSION:2.0
PRODID:-//eventon.com NONSGML v1.0//EN
CALSCALE:GREGORIAN
METHOD:PUBLISH
BEGIN:VEVENT
UID:69eb5590941e0
DTSTAMP:20260424T113544Z
DTSTART:20260603T163000Z
DTEND:20260603T173000Z
LOCATION:
SUMMARY:Pilates
DESCRIPTION:Pilates\nhttps://padmayoga.ch/events/pilates/var/ri-7.l-L1
URL:https://padmayoga.ch/events/pilates/var/ri-7.l-L1
END:VEVENT
END:VCALENDAR