BEGIN:VCALENDAR
VERSION:2.0
PRODID:-//eventon.com NONSGML v1.0//EN
CALSCALE:GREGORIAN
METHOD:PUBLISH
BEGIN:VEVENT
UID:69eb5415b3750
DTSTAMP:20260424T112925Z
DTSTART:20260513T163000Z
DTEND:20260513T173000Z
LOCATION:
SUMMARY:Pilates
DESCRIPTION:Pilates\nhttps://padmayoga.ch/events/pilates/var/ri-4.l-L1
URL:https://padmayoga.ch/events/pilates/var/ri-4.l-L1
END:VEVENT
END:VCALENDAR