BEGIN:VCALENDAR
VERSION:2.0
PRODID:-//eventon.com NONSGML v1.0//EN
CALSCALE:GREGORIAN
METHOD:PUBLISH
BEGIN:VEVENT
UID:69eb541f1824b
DTSTAMP:20260424T112935Z
DTSTART:20260506T163000Z
DTEND:20260506T173000Z
LOCATION:
SUMMARY:Pilates
DESCRIPTION:Pilates\nhttps://padmayoga.ch/events/pilates/var/ri-3.l-L1
URL:https://padmayoga.ch/events/pilates/var/ri-3.l-L1
END:VEVENT
END:VCALENDAR