BEGIN:VCALENDAR
VERSION:2.0
PRODID:-//eventon.com NONSGML v1.0//EN
CALSCALE:GREGORIAN
METHOD:PUBLISH
BEGIN:VEVENT
UID:69e89f36dcc59
DTSTAMP:20260422T101310Z
DTSTART:20260415T163000Z
DTEND:20260415T173000Z
LOCATION:
SUMMARY:Pilates
DESCRIPTION:Pilates\nhttps://padmayoga.ch/events/pilates/
URL:https://padmayoga.ch/events/pilates/
END:VEVENT
END:VCALENDAR