BEGIN:VCALENDAR
VERSION:2.0
PRODID:-//eventon.com NONSGML v1.0//EN
CALSCALE:GREGORIAN
METHOD:PUBLISH
BEGIN:VEVENT
UID:69eb9fa85f984
DTSTAMP:20260424T165152Z
DTSTART:20280302T173000Z
DTEND:20280302T184500Z
LOCATION:
SUMMARY:Vinyasa Flow
DESCRIPTION:Vinyasa Flow\nhttps://padmayoga.ch/events/vinyasa-flow-do/var/r
 i-98.l-L1
URL:https://padmayoga.ch/events/vinyasa-flow-do/var/ri-98.l-L1
END:VEVENT
END:VCALENDAR