BEGIN:VCALENDAR
VERSION:2.0
PRODID:-//eventon.com NONSGML v1.0//EN
CALSCALE:GREGORIAN
METHOD:PUBLISH
BEGIN:VEVENT
UID:69ed84bb9a4cc
DTSTAMP:20260426T032131Z
DTSTART:20290315T173000Z
DTEND:20290315T184500Z
LOCATION:
SUMMARY:Vinyasa Flow
DESCRIPTION:Vinyasa Flow\nhttps://padmayoga.ch/events/vinyasa-flow-do/var/r
 i-152.l-L1
URL:https://padmayoga.ch/events/vinyasa-flow-do/var/ri-152.l-L1
END:VEVENT
END:VCALENDAR