BEGIN:VCALENDAR
VERSION:2.0
PRODID:-//eventon.com NONSGML v1.0//EN
CALSCALE:GREGORIAN
METHOD:PUBLISH
BEGIN:VEVENT
UID:69ed711c15d6a
DTSTAMP:20260426T015748Z
DTSTART:20290308T173000Z
DTEND:20290308T184500Z
LOCATION:
SUMMARY:Vinyasa Flow
DESCRIPTION:Vinyasa Flow\nhttps://padmayoga.ch/events/vinyasa-flow-do/var/r
 i-151.l-L1
URL:https://padmayoga.ch/events/vinyasa-flow-do/var/ri-151.l-L1
END:VEVENT
END:VCALENDAR