BEGIN:VCALENDAR
VERSION:2.0
PRODID:-//eventon.com NONSGML v1.0//EN
CALSCALE:GREGORIAN
METHOD:PUBLISH
BEGIN:VEVENT
UID:69ed5a30830d1
DTSTAMP:20260426T002000Z
DTSTART:20290301T173000Z
DTEND:20290301T184500Z
LOCATION:
SUMMARY:Vinyasa Flow
DESCRIPTION:Vinyasa Flow\nhttps://padmayoga.ch/events/vinyasa-flow-do/var/r
 i-150.l-L1
URL:https://padmayoga.ch/events/vinyasa-flow-do/var/ri-150.l-L1
END:VEVENT
END:VCALENDAR