BEGIN:VCALENDAR
VERSION:2.0
PRODID:-//eventon.com NONSGML v1.0//EN
CALSCALE:GREGORIAN
METHOD:PUBLISH
BEGIN:VEVENT
UID:69ed322ca91e2
DTSTAMP:20260425T212916Z
DTSTART:20290215T173000Z
DTEND:20290215T184500Z
LOCATION:
SUMMARY:Vinyasa Flow
DESCRIPTION:Vinyasa Flow\nhttps://padmayoga.ch/events/vinyasa-flow-do/var/r
 i-148.l-L1
URL:https://padmayoga.ch/events/vinyasa-flow-do/var/ri-148.l-L1
END:VEVENT
END:VCALENDAR