BEGIN:VCALENDAR
VERSION:2.0
PRODID:-//eventon.com NONSGML v1.0//EN
CALSCALE:GREGORIAN
METHOD:PUBLISH
BEGIN:VEVENT
UID:69ed0798a4d8f
DTSTAMP:20260425T182736Z
DTSTART:20290201T173000Z
DTEND:20290201T184500Z
LOCATION:
SUMMARY:Vinyasa Flow
DESCRIPTION:Vinyasa Flow\nhttps://padmayoga.ch/events/vinyasa-flow-do/var/r
 i-146.l-L1
URL:https://padmayoga.ch/events/vinyasa-flow-do/var/ri-146.l-L1
END:VEVENT
END:VCALENDAR