BEGIN:VCALENDAR
VERSION:2.0
PRODID:-//eventon.com NONSGML v1.0//EN
CALSCALE:GREGORIAN
METHOD:PUBLISH
BEGIN:VEVENT
UID:69ecf3f47b3cb
DTSTAMP:20260425T170348Z
DTSTART:20290125T173000Z
DTEND:20290125T184500Z
LOCATION:
SUMMARY:Vinyasa Flow
DESCRIPTION:Vinyasa Flow\nhttps://padmayoga.ch/events/vinyasa-flow-do/var/r
 i-145.l-L1
URL:https://padmayoga.ch/events/vinyasa-flow-do/var/ri-145.l-L1
END:VEVENT
END:VCALENDAR