BEGIN:VCALENDAR
VERSION:2.0
PRODID:-//eventon.com NONSGML v1.0//EN
CALSCALE:GREGORIAN
METHOD:PUBLISH
BEGIN:VEVENT
UID:69ecdf00ccfa1
DTSTAMP:20260425T153424Z
DTSTART:20290118T173000Z
DTEND:20290118T184500Z
LOCATION:
SUMMARY:Vinyasa Flow
DESCRIPTION:Vinyasa Flow\nhttps://padmayoga.ch/events/vinyasa-flow-do/var/r
 i-144.l-L1
URL:https://padmayoga.ch/events/vinyasa-flow-do/var/ri-144.l-L1
END:VEVENT
END:VCALENDAR