BEGIN:VCALENDAR
VERSION:2.0
PRODID:-//eventon.com NONSGML v1.0//EN
CALSCALE:GREGORIAN
METHOD:PUBLISH
BEGIN:VEVENT
UID:69eccd956c271
DTSTAMP:20260425T142005Z
DTSTART:20290111T173000Z
DTEND:20290111T184500Z
LOCATION:
SUMMARY:Vinyasa Flow
DESCRIPTION:Vinyasa Flow\nhttps://padmayoga.ch/events/vinyasa-flow-do/var/r
 i-143.l-L1
URL:https://padmayoga.ch/events/vinyasa-flow-do/var/ri-143.l-L1
END:VEVENT
END:VCALENDAR