BEGIN:VCALENDAR
VERSION:2.0
PRODID:-//eventon.com NONSGML v1.0//EN
CALSCALE:GREGORIAN
METHOD:PUBLISH
BEGIN:VEVENT
UID:69ecb99a95806
DTSTAMP:20260425T125450Z
DTSTART:20290104T173000Z
DTEND:20290104T184500Z
LOCATION:
SUMMARY:Vinyasa Flow
DESCRIPTION:Vinyasa Flow\nhttps://padmayoga.ch/events/vinyasa-flow-do/var/r
 i-142.l-L1
URL:https://padmayoga.ch/events/vinyasa-flow-do/var/ri-142.l-L1
END:VEVENT
END:VCALENDAR