BEGIN:VCALENDAR
VERSION:2.0
PRODID:-//eventon.com NONSGML v1.0//EN
CALSCALE:GREGORIAN
METHOD:PUBLISH
BEGIN:VEVENT
UID:69ec060d6dc55
DTSTAMP:20260425T000845Z
DTSTART:20281116T173000Z
DTEND:20281116T184500Z
LOCATION:
SUMMARY:Vinyasa Flow
DESCRIPTION:Vinyasa Flow\nhttps://padmayoga.ch/events/vinyasa-flow-do/var/r
 i-135.l-L1
URL:https://padmayoga.ch/events/vinyasa-flow-do/var/ri-135.l-L1
END:VEVENT
END:VCALENDAR