BEGIN:VCALENDAR
VERSION:2.0
PRODID:-//eventon.com NONSGML v1.0//EN
CALSCALE:GREGORIAN
METHOD:PUBLISH
BEGIN:VEVENT
UID:69ebacdf2d1fb
DTSTAMP:20260424T174815Z
DTSTART:20281019T163000Z
DTEND:20281019T174500Z
LOCATION:
SUMMARY:Vinyasa Flow
DESCRIPTION:Vinyasa Flow\nhttps://padmayoga.ch/events/vinyasa-flow-do/var/r
 i-131.l-L1
URL:https://padmayoga.ch/events/vinyasa-flow-do/var/ri-131.l-L1
END:VEVENT
END:VCALENDAR