BEGIN:VCALENDAR
VERSION:2.0
PRODID:-//eventon.com NONSGML v1.0//EN
CALSCALE:GREGORIAN
METHOD:PUBLISH
BEGIN:VEVENT
UID:69eb830b8777c
DTSTAMP:20260424T144947Z
DTSTART:20281005T163000Z
DTEND:20281005T174500Z
LOCATION:
SUMMARY:Vinyasa Flow
DESCRIPTION:Vinyasa Flow\nhttps://padmayoga.ch/events/vinyasa-flow-do/var/r
 i-129.l-L1
URL:https://padmayoga.ch/events/vinyasa-flow-do/var/ri-129.l-L1
END:VEVENT
END:VCALENDAR