BEGIN:VCALENDAR
VERSION:2.0
PRODID:-//eventon.com NONSGML v1.0//EN
CALSCALE:GREGORIAN
METHOD:PUBLISH
BEGIN:VEVENT
UID:69eb6ff86d53e
DTSTAMP:20260424T132824Z
DTSTART:20280928T163000Z
DTEND:20280928T174500Z
LOCATION:
SUMMARY:Vinyasa Flow
DESCRIPTION:Vinyasa Flow\nhttps://padmayoga.ch/events/vinyasa-flow-do/var/r
 i-128.l-L1
URL:https://padmayoga.ch/events/vinyasa-flow-do/var/ri-128.l-L1
END:VEVENT
END:VCALENDAR