BEGIN:VCALENDAR
VERSION:2.0
PRODID:-//eventon.com NONSGML v1.0//EN
CALSCALE:GREGORIAN
METHOD:PUBLISH
BEGIN:VEVENT
UID:69eb578e5eb15
DTSTAMP:20260424T114414Z
DTSTART:20280921T163000Z
DTEND:20280921T174500Z
LOCATION:
SUMMARY:Vinyasa Flow
DESCRIPTION:Vinyasa Flow\nhttps://padmayoga.ch/events/vinyasa-flow-do/var/r
 i-127.l-L1
URL:https://padmayoga.ch/events/vinyasa-flow-do/var/ri-127.l-L1
END:VEVENT
END:VCALENDAR