BEGIN:VCALENDAR
VERSION:2.0
PRODID:-//eventon.com NONSGML v1.0//EN
CALSCALE:GREGORIAN
METHOD:PUBLISH
BEGIN:VEVENT
UID:69eb57a89af6c
DTSTAMP:20260424T114440Z
DTSTART:20280914T163000Z
DTEND:20280914T174500Z
LOCATION:
SUMMARY:Vinyasa Flow
DESCRIPTION:Vinyasa Flow\nhttps://padmayoga.ch/events/vinyasa-flow-do/var/r
 i-126.l-L1
URL:https://padmayoga.ch/events/vinyasa-flow-do/var/ri-126.l-L1
END:VEVENT
END:VCALENDAR