BEGIN:VCALENDAR
VERSION:2.0
PRODID:-//eventon.com NONSGML v1.0//EN
CALSCALE:GREGORIAN
METHOD:PUBLISH
BEGIN:VEVENT
UID:69e8a21cbb3ca
DTSTAMP:20260422T102532Z
DTSTART:20280907T163000Z
DTEND:20280907T174500Z
LOCATION:
SUMMARY:Vinyasa Flow
DESCRIPTION:Vinyasa Flow\nhttps://padmayoga.ch/events/vinyasa-flow-do/var/r
 i-125.l-L1
URL:https://padmayoga.ch/events/vinyasa-flow-do/var/ri-125.l-L1
END:VEVENT
END:VCALENDAR