BEGIN:VCALENDAR
VERSION:2.0
PRODID:-//eventon.com NONSGML v1.0//EN
CALSCALE:GREGORIAN
METHOD:PUBLISH
BEGIN:VEVENT
UID:69e65a8c163f3
DTSTAMP:20260420T165540Z
DTSTART:20260730T163000Z
DTEND:20260730T174500Z
LOCATION:
SUMMARY:Vinyasa Flow
DESCRIPTION:Vinyasa Flow\nhttps://padmayoga.ch/events/vinyasa-flow-do/var/r
 i-120.l-L1
URL:https://padmayoga.ch/events/vinyasa-flow-do/var/ri-120.l-L1
END:VEVENT
END:VCALENDAR