BEGIN:VCALENDAR
VERSION:2.0
PRODID:-//eventon.com NONSGML v1.0//EN
CALSCALE:GREGORIAN
METHOD:PUBLISH
BEGIN:VEVENT
UID:69e88e082f59e
DTSTAMP:20260422T085952Z
DTSTART:20280713T163000Z
DTEND:20280713T174500Z
LOCATION:
SUMMARY:Vinyasa Flow
DESCRIPTION:Vinyasa Flow\nhttps://padmayoga.ch/events/vinyasa-flow-do/var/r
 i-117.l-L1
URL:https://padmayoga.ch/events/vinyasa-flow-do/var/ri-117.l-L1
END:VEVENT
END:VCALENDAR