BEGIN:VCALENDAR
VERSION:2.0
PRODID:-//eventon.com NONSGML v1.0//EN
CALSCALE:GREGORIAN
METHOD:PUBLISH
BEGIN:VEVENT
UID:69e8bf3d347a8
DTSTAMP:20260422T122949Z
DTSTART:20280622T163000Z
DTEND:20280622T174500Z
LOCATION:
SUMMARY:Vinyasa Flow
DESCRIPTION:Vinyasa Flow\nhttps://padmayoga.ch/events/vinyasa-flow-do/var/r
 i-114.l-L1
URL:https://padmayoga.ch/events/vinyasa-flow-do/var/ri-114.l-L1
END:VEVENT
END:VCALENDAR