BEGIN:VCALENDAR
VERSION:2.0
PRODID:-//eventon.com NONSGML v1.0//EN
CALSCALE:GREGORIAN
METHOD:PUBLISH
BEGIN:VEVENT
UID:69e65a01b39d1
DTSTAMP:20260420T165321Z
DTSTART:20260604T163000Z
DTEND:20260604T174500Z
LOCATION:
SUMMARY:Vinyasa Flow
DESCRIPTION:Vinyasa Flow\nhttps://padmayoga.ch/events/vinyasa-flow-do/var/r
 i-112.l-L1
URL:https://padmayoga.ch/events/vinyasa-flow-do/var/ri-112.l-L1
END:VEVENT
END:VCALENDAR