BEGIN:VCALENDAR
VERSION:2.0
PRODID:-//eventon.com NONSGML v1.0//EN
CALSCALE:GREGORIAN
METHOD:PUBLISH
BEGIN:VEVENT
UID:69e88d5d7e060
DTSTAMP:20260422T085701Z
DTSTART:20280601T163000Z
DTEND:20280601T174500Z
LOCATION:
SUMMARY:Vinyasa Flow
DESCRIPTION:Vinyasa Flow\nhttps://padmayoga.ch/events/vinyasa-flow-do/var/r
 i-111.l-L1
URL:https://padmayoga.ch/events/vinyasa-flow-do/var/ri-111.l-L1
END:VEVENT
END:VCALENDAR