BEGIN:VCALENDAR
VERSION:2.0
PRODID:-//eventon.com NONSGML v1.0//EN
CALSCALE:GREGORIAN
METHOD:PUBLISH
BEGIN:VEVENT
UID:69e65ac7d28db
DTSTAMP:20260420T165639Z
DTSTART:20260430T163000Z
DTEND:20260430T174500Z
LOCATION:
SUMMARY:Vinyasa Flow
DESCRIPTION:Vinyasa Flow\nhttps://padmayoga.ch/events/vinyasa-flow-do/var/r
 i-107.l-L1
URL:https://padmayoga.ch/events/vinyasa-flow-do/var/ri-107.l-L1
END:VEVENT
END:VCALENDAR