BEGIN:VCALENDAR
VERSION:2.0
PRODID:-//eventon.com NONSGML v1.0//EN
CALSCALE:GREGORIAN
METHOD:PUBLISH
BEGIN:VEVENT
UID:69eb5754df6fc
DTSTAMP:20260424T114316Z
DTSTART:20280323T173000Z
DTEND:20280323T184500Z
LOCATION:
SUMMARY:Vinyasa Flow
DESCRIPTION:Vinyasa Flow\nhttps://padmayoga.ch/events/vinyasa-flow-do/var/r
 i-101.l-L1
URL:https://padmayoga.ch/events/vinyasa-flow-do/var/ri-101.l-L1
END:VEVENT
END:VCALENDAR