BEGIN:VCALENDAR
VERSION:2.0
PRODID:-//eventon.com NONSGML v1.0//EN
CALSCALE:GREGORIAN
METHOD:PUBLISH
BEGIN:VEVENT
UID:69eb6f85f005a
DTSTAMP:20260424T132629Z
DTSTART:20280316T173000Z
DTEND:20280316T184500Z
LOCATION:
SUMMARY:Vinyasa Flow
DESCRIPTION:Vinyasa Flow\nhttps://padmayoga.ch/events/vinyasa-flow-do/var/r
 i-100.l-L1
URL:https://padmayoga.ch/events/vinyasa-flow-do/var/ri-100.l-L1
END:VEVENT
END:VCALENDAR