BEGIN:VCALENDAR
VERSION:2.0
PRODID:-//eventon.com NONSGML v1.0//EN
CALSCALE:GREGORIAN
METHOD:PUBLISH
BEGIN:VEVENT
UID:69eb2962eee57
DTSTAMP:20260424T082714Z
DTSTART:20260416T163000Z
DTEND:20260416T174500Z
LOCATION:
SUMMARY:Vinyasa Flow
DESCRIPTION:Vinyasa Flow\nhttps://padmayoga.ch/events/vinyasa-flow-do/
URL:https://padmayoga.ch/events/vinyasa-flow-do/
END:VEVENT
END:VCALENDAR