BEGIN:VCALENDAR
VERSION:2.0
PRODID:-//eventon.com NONSGML v1.0//EN
CALSCALE:GREGORIAN
METHOD:PUBLISH
BEGIN:VEVENT
UID:69eb3d963d722
DTSTAMP:20260424T095326Z
DTSTART:20260521T050000Z
DTEND:20260521T060000Z
LOCATION:
SUMMARY:Early Bird
DESCRIPTION:Early Bird\nhttps://padmayoga.ch/events/early-bird/var/ri-9.l-L
 1
URL:https://padmayoga.ch/events/early-bird/var/ri-9.l-L1
END:VEVENT
END:VCALENDAR