BEGIN:VCALENDAR
VERSION:2.0
PRODID:-//eventon.com NONSGML v1.0//EN
CALSCALE:GREGORIAN
METHOD:PUBLISH
BEGIN:VEVENT
UID:69eb7b1f31ff6
DTSTAMP:20260424T141559Z
DTSTART:20260908T050000Z
DTEND:20260908T060000Z
LOCATION:
SUMMARY:Early Bird
DESCRIPTION:Early Bird\nhttps://padmayoga.ch/events/early-bird/var/ri-40.l-
 L1
URL:https://padmayoga.ch/events/early-bird/var/ri-40.l-L1
END:VEVENT
END:VCALENDAR