BEGIN:VCALENDAR
VERSION:2.0
PRODID:-//eventon.com NONSGML v1.0//EN
CALSCALE:GREGORIAN
METHOD:PUBLISH
BEGIN:VEVENT
UID:69eb52c4b8bf9
DTSTAMP:20260424T112348Z
DTSTART:20260901T050000Z
DTEND:20260901T060000Z
LOCATION:
SUMMARY:Early Bird
DESCRIPTION:Early Bird\nhttps://padmayoga.ch/events/early-bird/var/ri-38.l-
 L1
URL:https://padmayoga.ch/events/early-bird/var/ri-38.l-L1
END:VEVENT
END:VCALENDAR