BEGIN:VCALENDAR
VERSION:2.0
PRODID:-//eventon.com NONSGML v1.0//EN
CALSCALE:GREGORIAN
METHOD:PUBLISH
BEGIN:VEVENT
UID:69eb3dc967806
DTSTAMP:20260424T095417Z
DTSTART:20260804T050000Z
DTEND:20260804T060000Z
LOCATION:
SUMMARY:Early Bird
DESCRIPTION:Early Bird\nhttps://padmayoga.ch/events/early-bird/var/ri-30.l-
 L1
URL:https://padmayoga.ch/events/early-bird/var/ri-30.l-L1
END:VEVENT
END:VCALENDAR