BEGIN:VCALENDAR
VERSION:2.0
PRODID:-//eventon.com NONSGML v1.0//EN
CALSCALE:GREGORIAN
METHOD:PUBLISH
BEGIN:VEVENT
UID:69eb56f779d17
DTSTAMP:20260424T114143Z
DTSTART:20260430T050000Z
DTEND:20260430T060000Z
LOCATION:
SUMMARY:Early Bird
DESCRIPTION:Early Bird\nhttps://padmayoga.ch/events/early-bird/var/ri-3.l-L
 1
URL:https://padmayoga.ch/events/early-bird/var/ri-3.l-L1
END:VEVENT
END:VCALENDAR