BEGIN:VCALENDAR
VERSION:2.0
PRODID:-//eventon.com NONSGML v1.0//EN
CALSCALE:GREGORIAN
METHOD:PUBLISH
BEGIN:VEVENT
UID:69e8bc76b07a7
DTSTAMP:20260422T121758Z
DTSTART:20260721T050000Z
DTEND:20260721T060000Z
LOCATION:
SUMMARY:Early Bird
DESCRIPTION:Early Bird\nhttps://padmayoga.ch/events/early-bird/var/ri-26.l-
 L1
URL:https://padmayoga.ch/events/early-bird/var/ri-26.l-L1
END:VEVENT
END:VCALENDAR