BEGIN:VCALENDAR
VERSION:2.0
PRODID:-//eventon.com NONSGML v1.0//EN
CALSCALE:GREGORIAN
METHOD:PUBLISH
BEGIN:VEVENT
UID:69e8bc8be1357
DTSTAMP:20260422T121819Z
DTSTART:20260707T050000Z
DTEND:20260707T060000Z
LOCATION:
SUMMARY:Early Bird
DESCRIPTION:Early Bird\nhttps://padmayoga.ch/events/early-bird/var/ri-22.l-
 L1
URL:https://padmayoga.ch/events/early-bird/var/ri-22.l-L1
END:VEVENT
END:VCALENDAR