BEGIN:VCALENDAR
VERSION:2.0
PRODID:-//eventon.com NONSGML v1.0//EN
CALSCALE:GREGORIAN
METHOD:PUBLISH
BEGIN:VEVENT
UID:69e8bc9d5b480
DTSTAMP:20260422T121837Z
DTSTART:20260623T050000Z
DTEND:20260623T060000Z
LOCATION:
SUMMARY:Early Bird
DESCRIPTION:Early Bird\nhttps://padmayoga.ch/events/early-bird/var/ri-18.l-
 L1
URL:https://padmayoga.ch/events/early-bird/var/ri-18.l-L1
END:VEVENT
END:VCALENDAR