BEGIN:VCALENDAR
VERSION:2.0
PRODID:-//eventon.com NONSGML v1.0//EN
CALSCALE:GREGORIAN
METHOD:PUBLISH
BEGIN:VEVENT
UID:69eb3eb920d7b
DTSTAMP:20260424T095817Z
DTSTART:20260609T050000Z
DTEND:20260609T060000Z
LOCATION:
SUMMARY:Early Bird
DESCRIPTION:Early Bird\nhttps://padmayoga.ch/events/early-bird/var/ri-14.l-
 L1
URL:https://padmayoga.ch/events/early-bird/var/ri-14.l-L1
END:VEVENT
END:VCALENDAR