BEGIN:VCALENDAR
VERSION:2.0
PRODID:-//eventon.com NONSGML v1.0//EN
CALSCALE:GREGORIAN
METHOD:PUBLISH
BEGIN:VEVENT
UID:69eb57977ea59
DTSTAMP:20260424T114423Z
DTSTART:20260604T050000Z
DTEND:20260604T060000Z
LOCATION:
SUMMARY:Early Bird
DESCRIPTION:Early Bird\nhttps://padmayoga.ch/events/early-bird/var/ri-13.l-
 L1
URL:https://padmayoga.ch/events/early-bird/var/ri-13.l-L1
END:VEVENT
END:VCALENDAR