BEGIN:VCALENDAR
VERSION:2.0
PRODID:-//eventon.com NONSGML v1.0//EN
CALSCALE:GREGORIAN
METHOD:PUBLISH
BEGIN:VEVENT
UID:69e8bc6e7e8bf
DTSTAMP:20260422T121750Z
DTSTART:20260602T050000Z
DTEND:20260602T060000Z
LOCATION:
SUMMARY:Early Bird
DESCRIPTION:Early Bird\nhttps://padmayoga.ch/events/early-bird/var/ri-12.l-
 L1
URL:https://padmayoga.ch/events/early-bird/var/ri-12.l-L1
END:VEVENT
END:VCALENDAR